BEGIN:VCALENDAR
VERSION:2.0
PRODID:-//Bite Into Books - ECPv6.15.17.1//NONSGML v1.0//EN
CALSCALE:GREGORIAN
METHOD:PUBLISH
X-WR-CALNAME:Bite Into Books
X-ORIGINAL-URL:https://cuyahogareads.org
X-WR-CALDESC:Events for Bite Into Books
REFRESH-INTERVAL;VALUE=DURATION:PT1H
X-Robots-Tag:noindex
X-PUBLISHED-TTL:PT1H
BEGIN:VTIMEZONE
TZID:America/Detroit
BEGIN:DAYLIGHT
TZOFFSETFROM:-0500
TZOFFSETTO:-0400
TZNAME:EDT
DTSTART:20250309T070000
END:DAYLIGHT
BEGIN:STANDARD
TZOFFSETFROM:-0400
TZOFFSETTO:-0500
TZNAME:EST
DTSTART:20251102T060000
END:STANDARD
BEGIN:DAYLIGHT
TZOFFSETFROM:-0500
TZOFFSETTO:-0400
TZNAME:EDT
DTSTART:20260308T070000
END:DAYLIGHT
BEGIN:STANDARD
TZOFFSETFROM:-0400
TZOFFSETTO:-0500
TZNAME:EST
DTSTART:20261101T060000
END:STANDARD
BEGIN:DAYLIGHT
TZOFFSETFROM:-0500
TZOFFSETTO:-0400
TZNAME:EDT
DTSTART:20270314T070000
END:DAYLIGHT
BEGIN:STANDARD
TZOFFSETFROM:-0400
TZOFFSETTO:-0500
TZNAME:EST
DTSTART:20271107T060000
END:STANDARD
END:VTIMEZONE
BEGIN:VEVENT
DTSTART;TZID=America/Detroit:20260203T100000
DTEND;TZID=America/Detroit:20260203T120000
DTSTAMP:20260419T124242
CREATED:20260205T141212Z
LAST-MODIFIED:20260302T210333Z
UID:1962-1770112800-1770120000@cuyahogareads.org
SUMMARY:Garden Club
DESCRIPTION:Join us every week outside in our garden! We’ll spend Spring prepping veggies for planting after the last frost (indoors and outdoors!). Daily tasks will include weeding\, transplanting\, planting\, watering\, harvesting\, and other common garden tasks. Make sure to dress for the dirt!
URL:https://cuyahogareads.org/event/ecpl-garden-club/
LOCATION:East Cleveland Public Library\, 14101 Euclid Ave.\, East Cleveland\, OH\, 44112\, United States
CATEGORIES:Gardening
END:VEVENT
BEGIN:VEVENT
DTSTART;TZID=America/Detroit:20260205T100000
DTEND;TZID=America/Detroit:20260205T120000
DTSTAMP:20260419T124242
CREATED:20260205T141213Z
LAST-MODIFIED:20260302T210328Z
UID:1969-1770285600-1770292800@cuyahogareads.org
SUMMARY:Garden Club
DESCRIPTION:Join us every week outside in our garden! We’ll spend Spring prepping veggies for planting after the last frost (indoors and outdoors!). Daily tasks will include weeding\, transplanting\, planting\, watering\, harvesting\, and other common garden tasks. Make sure to dress for the dirt!
URL:https://cuyahogareads.org/event/ecpl-garden-club-2/
LOCATION:East Cleveland Public Library\, 14101 Euclid Ave.\, East Cleveland\, OH\, 44112\, United States
CATEGORIES:Gardening
END:VEVENT
BEGIN:VEVENT
DTSTART;TZID=America/Detroit:20260207T100000
DTEND;TZID=America/Detroit:20260207T120000
DTSTAMP:20260419T124242
CREATED:20260205T141213Z
LAST-MODIFIED:20260302T210324Z
UID:1970-1770458400-1770465600@cuyahogareads.org
SUMMARY:Garden Club
DESCRIPTION:Join us every week outside in our garden! We’ll spend Spring prepping veggies for planting after the last frost (indoors and outdoors!). Daily tasks will include weeding\, transplanting\, planting\, watering\, harvesting\, and other common garden tasks. Make sure to dress for the dirt!
URL:https://cuyahogareads.org/event/ecpl-garden-club-3/
LOCATION:East Cleveland Public Library\, 14101 Euclid Ave.\, East Cleveland\, OH\, 44112\, United States
CATEGORIES:Gardening
END:VEVENT
BEGIN:VEVENT
DTSTART;TZID=America/Detroit:20260210T100000
DTEND;TZID=America/Detroit:20260210T120000
DTSTAMP:20260419T124242
CREATED:20260205T141214Z
LAST-MODIFIED:20260302T210320Z
UID:1971-1770717600-1770724800@cuyahogareads.org
SUMMARY:Garden Club
DESCRIPTION:Join us every week outside in our garden! We’ll spend Spring prepping veggies for planting after the last frost (indoors and outdoors!). Daily tasks will include weeding\, transplanting\, planting\, watering\, harvesting\, and other common garden tasks. Make sure to dress for the dirt!
URL:https://cuyahogareads.org/event/ecpl-garden-club-4/
LOCATION:East Cleveland Public Library\, 14101 Euclid Ave.\, East Cleveland\, OH\, 44112\, United States
CATEGORIES:Gardening
END:VEVENT
BEGIN:VEVENT
DTSTART;TZID=America/Detroit:20260212T100000
DTEND;TZID=America/Detroit:20260212T120000
DTSTAMP:20260419T124242
CREATED:20260205T141214Z
LAST-MODIFIED:20260302T210315Z
UID:1972-1770890400-1770897600@cuyahogareads.org
SUMMARY:Garden Club
DESCRIPTION:Join us every week outside in our garden! We’ll spend Spring prepping veggies for planting after the last frost (indoors and outdoors!). Daily tasks will include weeding\, transplanting\, planting\, watering\, harvesting\, and other common garden tasks. Make sure to dress for the dirt!
URL:https://cuyahogareads.org/event/ecpl-garden-club-5/
LOCATION:East Cleveland Public Library\, 14101 Euclid Ave.\, East Cleveland\, OH\, 44112\, United States
CATEGORIES:Gardening
END:VEVENT
BEGIN:VEVENT
DTSTART;TZID=America/Detroit:20260214T100000
DTEND;TZID=America/Detroit:20260214T120000
DTSTAMP:20260419T124242
CREATED:20260205T141214Z
LAST-MODIFIED:20260302T210300Z
UID:1973-1771063200-1771070400@cuyahogareads.org
SUMMARY:Garden Club
DESCRIPTION:Join us every week outside in our garden! We’ll spend Spring prepping veggies for planting after the last frost (indoors and outdoors!). Daily tasks will include weeding\, transplanting\, planting\, watering\, harvesting\, and other common garden tasks. Make sure to dress for the dirt!
URL:https://cuyahogareads.org/event/ecpl-garden-club-6/
LOCATION:East Cleveland Public Library\, 14101 Euclid Ave.\, East Cleveland\, OH\, 44112\, United States
CATEGORIES:Gardening
END:VEVENT
BEGIN:VEVENT
DTSTART;TZID=America/Detroit:20260217T100000
DTEND;TZID=America/Detroit:20260217T120000
DTSTAMP:20260419T124242
CREATED:20260205T141229Z
LAST-MODIFIED:20260302T210255Z
UID:1974-1771322400-1771329600@cuyahogareads.org
SUMMARY:Garden Club
DESCRIPTION:Join us every week outside in our garden! We’ll spend Spring prepping veggies for planting after the last frost (indoors and outdoors!). Daily tasks will include weeding\, transplanting\, planting\, watering\, harvesting\, and other common garden tasks. Make sure to dress for the dirt!
URL:https://cuyahogareads.org/event/ecpl-garden-club-7/
LOCATION:East Cleveland Public Library\, 14101 Euclid Ave.\, East Cleveland\, OH\, 44112\, United States
CATEGORIES:Gardening
END:VEVENT
BEGIN:VEVENT
DTSTART;TZID=America/Detroit:20260219T100000
DTEND;TZID=America/Detroit:20260219T120000
DTSTAMP:20260419T124242
CREATED:20260205T141229Z
LAST-MODIFIED:20260302T210250Z
UID:1975-1771495200-1771502400@cuyahogareads.org
SUMMARY:Garden Club
DESCRIPTION:Join us every week outside in our garden! We’ll spend Spring prepping veggies for planting after the last frost (indoors and outdoors!). Daily tasks will include weeding\, transplanting\, planting\, watering\, harvesting\, and other common garden tasks. Make sure to dress for the dirt!
URL:https://cuyahogareads.org/event/ecpl-garden-club-8/
LOCATION:East Cleveland Public Library\, 14101 Euclid Ave.\, East Cleveland\, OH\, 44112\, United States
CATEGORIES:Gardening
END:VEVENT
BEGIN:VEVENT
DTSTART;TZID=America/Detroit:20260221T100000
DTEND;TZID=America/Detroit:20260221T120000
DTSTAMP:20260419T124242
CREATED:20260205T141229Z
LAST-MODIFIED:20260302T210244Z
UID:1976-1771668000-1771675200@cuyahogareads.org
SUMMARY:Garden Club
DESCRIPTION:Join us every week outside in our garden! We’ll spend Spring prepping veggies for planting after the last frost (indoors and outdoors!). Daily tasks will include weeding\, transplanting\, planting\, watering\, harvesting\, and other common garden tasks. Make sure to dress for the dirt!
URL:https://cuyahogareads.org/event/ecpl-garden-club-9/
LOCATION:East Cleveland Public Library\, 14101 Euclid Ave.\, East Cleveland\, OH\, 44112\, United States
CATEGORIES:Gardening
END:VEVENT
BEGIN:VEVENT
DTSTART;TZID=America/Detroit:20260224T100000
DTEND;TZID=America/Detroit:20260224T120000
DTSTAMP:20260419T124242
CREATED:20260205T141229Z
LAST-MODIFIED:20260302T210240Z
UID:1977-1771927200-1771934400@cuyahogareads.org
SUMMARY:Garden Club
DESCRIPTION:Join us every week outside in our garden! We’ll spend Spring prepping veggies for planting after the last frost (indoors and outdoors!). Daily tasks will include weeding\, transplanting\, planting\, watering\, harvesting\, and other common garden tasks. Make sure to dress for the dirt!
URL:https://cuyahogareads.org/event/ecpl-garden-club-10/
LOCATION:East Cleveland Public Library\, 14101 Euclid Ave.\, East Cleveland\, OH\, 44112\, United States
CATEGORIES:Gardening
END:VEVENT
BEGIN:VEVENT
DTSTART;TZID=America/Detroit:20260226T100000
DTEND;TZID=America/Detroit:20260226T120000
DTSTAMP:20260419T124242
CREATED:20260205T141229Z
LAST-MODIFIED:20260302T210236Z
UID:1978-1772100000-1772107200@cuyahogareads.org
SUMMARY:Garden Club
DESCRIPTION:Join us every week outside in our garden! We’ll spend Spring prepping veggies for planting after the last frost (indoors and outdoors!). Daily tasks will include weeding\, transplanting\, planting\, watering\, harvesting\, and other common garden tasks. Make sure to dress for the dirt!
URL:https://cuyahogareads.org/event/ecpl-garden-club-11/
LOCATION:East Cleveland Public Library\, 14101 Euclid Ave.\, East Cleveland\, OH\, 44112\, United States
CATEGORIES:Gardening
END:VEVENT
BEGIN:VEVENT
DTSTART;TZID=America/Detroit:20260228T100000
DTEND;TZID=America/Detroit:20260228T120000
DTSTAMP:20260419T124242
CREATED:20260205T141242Z
LAST-MODIFIED:20260302T210233Z
UID:1979-1772272800-1772280000@cuyahogareads.org
SUMMARY:Garden Club
DESCRIPTION:Join us every week outside in our garden! We’ll spend Spring prepping veggies for planting after the last frost (indoors and outdoors!). Daily tasks will include weeding\, transplanting\, planting\, watering\, harvesting\, and other common garden tasks. Make sure to dress for the dirt!
URL:https://cuyahogareads.org/event/ecpl-garden-club-12/
LOCATION:East Cleveland Public Library\, 14101 Euclid Ave.\, East Cleveland\, OH\, 44112\, United States
CATEGORIES:Gardening
END:VEVENT
END:VCALENDAR